BEGIN:VCALENDAR
VERSION:2.0
PRODID:klimanetzwerk-bplu.de
METHOD:PUBLISH
BEGIN:VTIMEZONE
TZID:Europe/Berlin
X-LIC-LOCATION:Europe/Berlin
BEGIN:DAYLIGHT
TZOFFSETFROM:+0100
TZOFFSETTO:+0200
TZNAME:CEST
DTSTART:19700329T020000
RRULE:FREQ=YEARLY;INTERVAL=1;BYDAY=-1SU;BYMONTH=3
END:DAYLIGHT
BEGIN:STANDARD
TZOFFSETFROM:+0200
TZOFFSETTO:+0100
TZNAME:CET
DTSTART:19701025T030000
RRULE:FREQ=YEARLY;INTERVAL=1;BYDAY=-1SU;BYMONTH=10
END:STANDARD
END:VTIMEZONE
BEGIN:VEVENT
UID:5efdfaf303a67cba2dcfee180286145b@klimanetzwerk-bplu.de
URL;VALUE=URI:https://klimanetzwerk-bplu.de/termine/repair-cafe/
LOCATION:STADT:RAUM, Rathausstraße 1, 31812 Bad Pyrmont
SUMMARY:Reparatur-Café
DESCRIPTION;ALTREP="data:text/html,%0A%3Cp%3EJeden%201.%20Samstag%20im%20
 Monat%20%C3%B6ffnet%20das%20Reparaturcaf%C3%A9%20von%2014%3A00-17%3A00%20
 Uhr%20im%20STADT%3ARAUM%20von%20Bad%20Pyrmont%20%28Rathausstr.%201%29.%3C
 %2Fp%3E%0A%0A%0A%0A%3Cp%3EVor%20Ort%20k%C3%BCmmern%20sich%20engagierte%20
 Fachleute%20um%20defekte%20Ger%C3%A4te%2C%20Fahrr%C3%A4der%2C%20etc.%20un
 d%20versuchen%20sie%20zu%20reparieren.%20Kommt%20vorbei%2C%20in%20vielen%
 20F%C3%A4llen%20ist%20die%20Reparatur%20erfolgreich.%3C%2Fp%3E%0A%0A%0A%0
 A%3Cp%3E%3C%2Fp%3E%0A":Jeden 1. Samstag im Monat öffnet das Reparaturcaf
 é von 14:00-17:00 Uhr im STADT:RAUM von Bad Pyrmont (Rathausstr. 1).\n\n
 Vor Ort kümmern sich engagierte Fachleute um defekte Geräte\, Fahrräde
 r\, etc. und versuchen sie zu reparieren. Kommt vorbei\, in vielen Fälle
 n ist die Reparatur erfolgreich.
CLASS:PUBLIC
DTSTART;TZID=Europe/Berlin:20260502T140000
DTEND;TZID=Europe/Berlin:20260502T170000
DTSTAMP:20260422T103959
END:VEVENT
BEGIN:VEVENT
UID:2d8c2a92491f4d9ec607e79cf29c312b@klimanetzwerk-bplu.de
URL;VALUE=URI:https://klimanetzwerk-bplu.de/termine/kreative-intervention
 en/
LOCATION:Quäkerhaus, Bombergallee 9, Bad Pyrmont
SUMMARY:Kreative Interventionen
DESCRIPTION;ALTREP="data:text/html,%0A%3Cp%3EMit%20wenig%20Menschen%20%28
 medien-%29wirksam%20Gesellschaft%20gestalten.%3C%2Fp%3E%0A%0A%0A%0A%3Cp%3
 ESo%20lautet%20der%20Titel%20des%20Vortrages%20von%20%3Ca%20href%3D%22htt
 ps%3A%2F%2Ftobi-rosswog.de%2F%22%20target%3D%22_blank%22%20rel%3D%22noref
 errer%20noopener%22%3ETobi%20Rosswog%3C%2Fa%3E%2C%20zu%20dem%20wir%20euch
 %20ins%20%3Ca%20href%3D%22https%3A%2F%2Fquaeker.org%2Fquaeker-treffen%2Fo
 rte%2Fquaekerhaus-bad-pyrmont%2F%22%3EQu%C3%A4kerhaus%3C%2Fa%3E%20in%20Ba
 d%20Pyrmont%20einladen%20wollen.%3C%2Fp%3E%0A%0A%0A%0A%3Cp%3E%3C%2Fp%3E%0
 A%0A%0A%0A%3Cdiv%20class%3D%22wp-block-media-text%20is-stacked-on-mobile%
 22%3E%3Cfigure%20class%3D%22wp-block-media-text__media%22%3E%3Cimg%20src%
 3D%22https%3A%2F%2Fklimanetzwerk-bplu.de%2Fwp-content%2Fuploads%2F2026%2F
 03%2FFlyer_Rosswog.png%22%20alt%3D%22%22%20class%3D%22wp-image-665%20size
 -full%22%20%2F%3E%3C%2Ffigure%3E%3Cdiv%20class%3D%22wp-block-media-text__
 content%22%3E%0A%3Cp%20class%3D%22has-large-font-size%22%3ETobi%20Rosswog
 %20ist%20%3Cbr%3EAktivist%2C%20Autor%20und%20%3Cbr%3Efreier%20Dozent%20so
 wie%20Mitinitiator%20verschiedener%20kreativer%20Kampagnen%20und%20Kollek
 tive.%3C%2Fp%3E%0A%3C%2Fdiv%3E%3C%2Fdiv%3E%0A%0A%0A%0A%3Cp%3E%3C%2Fp%3E%0
 A%0A%0A%0A%3Cp%3EBleibt%20neugierig%20und%20schaut%20im%20Qu%C3%A4kerhaus
 %20vorbei.%3C%2Fp%3E%0A":Mit wenig Menschen (medien-)wirksam Gesellschaft
  gestalten.\n\nSo lautet der Titel des Vortrages von Tobi Rosswog\, zu de
 m wir euch ins Quäkerhaus in Bad Pyrmont einladen wollen.\n\nTobi Rosswo
 g ist Aktivist\, Autor und freier Dozent sowie Mitinitiator verschiedener
  kreativer Kampagnen und Kollektive.\n\nBleibt neugierig und schaut im Qu
 äkerhaus vorbei.
CLASS:PUBLIC
DTSTART;TZID=Europe/Berlin:20260512T150000
DTEND;TZID=Europe/Berlin:20260512T163000
DTSTAMP:20260422T103959
END:VEVENT
BEGIN:VEVENT
UID:5136dcd97593cf8c53e58ba59483e102@klimanetzwerk-bplu.de
URL;VALUE=URI:https://klimanetzwerk-bplu.de/termine/wasserfest-bad-pyrmon
 t/
LOCATION:Bad Pyrmont
SUMMARY:Wasserfest Bad Pyrmont
DESCRIPTION;ALTREP="data:text/html,%0A%3Cp%3EIm%20Zuge%20des%20%3Ca%20hre
 f%3D%22https%3A%2F%2Fwasser-fest-badpyrmont.de%2F%22%20target%3D%22_blank
 %22%20rel%3D%22noreferrer%20noopener%22%3EWasserfestes%3C%2Fa%3E%20werden
 %20wir%20uns%20mit%20mehreren%20Veranstaltungen%20%2F%20Aktionen%20beteil
 igen.%3C%2Fp%3E%0A%0A%0A%0A%3Cp%3EGeplant%20sind%3A%3C%2Fp%3E%0A%0A%0A%0A
 %3Cul%20class%3D%22wp-block-list%22%3E%0A%3Cli%3EEine%20Wasserausstellung
 %20im%20STADT%3ARAUM%3C%2Fli%3E%0A%3C%2Ful%3E%0A%0A%0A%0A%3Cul%20class%3D
 %22wp-block-list%22%3E%0A%3Cli%3EEine%20Radtour%3C%2Fli%3E%0A%3C%2Ful%3E%
 0A%0A%0A%0A%3Cul%20class%3D%22wp-block-list%22%3E%0A%3Cli%3EEine%20Quelle
 nrallye%3C%2Fli%3E%0A%3C%2Ful%3E%0A%0A%0A%0A%3Cp%3E%3C%2Fp%3E%0A%0A%0A%0A
 %3Cp%3EBleibt%20neugierig%20und%20beteiligt%20euch%21%3C%2Fp%3E%0A":Im Zu
 ge des Wasserfestes werden wir uns mit mehreren Veranstaltungen / Aktione
 n beteiligen.\n\nGeplant sind:\n\nEine Wasserausstellung im STADT:RAUM\n\
 nEine Radtour\n\nEine Quellenrallye\n\nBleibt neugierig und beteiligt euc
 h!
CLASS:PUBLIC
DTSTART;TZID=Europe/Berlin:20260601
DTEND;TZID=Europe/Berlin:20260608
DTSTAMP:20260422T103959
END:VEVENT
END:VCALENDAR